BEGIN:VCALENDAR
VERSION:2.0
PRODID:-//Squarespace Inc/Squarespace 6//v6//EN
BEGIN:VEVENT
UID:57b2dccde3df2858a01f3139@squarespace.com
DTSTAMP:20160816T093245Z
DTSTART:20160924T020000Z
DTEND:20160924T060000Z
SUMMARY:SPRING CLEAN UP - 24 September 2016
END:VEVENT
END:VCALENDAR
