BEGIN:VCALENDAR
VERSION:2.0
PRODID:-//Squarespace Inc/Squarespace 6//v6//EN
BEGIN:VEVENT
UID:57ddf7a3b3db2b3c7868d3c0@squarespace.com
DTSTAMP:20160918T021402Z
DTSTART:20161022T020000Z
DTEND:20161022T060000Z
SUMMARY:Heathridge Residents Association Spring Fling 2016
GEO:-31.75969;115.7594
LOCATION:Heathridge Residents Association Spring Fling 2016\, 123 Caridean 
 Street\, Heathridge\, WA\, 6027\, Australia
END:VEVENT
END:VCALENDAR
